BEGIN:VCALENDAR
VERSION:2.0
PRODID:-//Die Rockgören - ECPv6.15.20//NONSGML v1.0//EN
CALSCALE:GREGORIAN
METHOD:PUBLISH
X-WR-CALNAME:Die Rockgören
X-ORIGINAL-URL:https://rockgoeren.de
X-WR-CALDESC:Veranstaltungen für Die Rockgören
REFRESH-INTERVAL;VALUE=DURATION:PT1H
X-Robots-Tag:noindex
X-PUBLISHED-TTL:PT1H
BEGIN:VTIMEZONE
TZID:Europe/Berlin
BEGIN:DAYLIGHT
TZOFFSETFROM:+0100
TZOFFSETTO:+0200
TZNAME:CEST
DTSTART:20250330T010000
END:DAYLIGHT
BEGIN:STANDARD
TZOFFSETFROM:+0200
TZOFFSETTO:+0100
TZNAME:CET
DTSTART:20251026T010000
END:STANDARD
BEGIN:DAYLIGHT
TZOFFSETFROM:+0100
TZOFFSETTO:+0200
TZNAME:CEST
DTSTART:20260329T010000
END:DAYLIGHT
BEGIN:STANDARD
TZOFFSETFROM:+0200
TZOFFSETTO:+0100
TZNAME:CET
DTSTART:20261025T010000
END:STANDARD
BEGIN:DAYLIGHT
TZOFFSETFROM:+0100
TZOFFSETTO:+0200
TZNAME:CEST
DTSTART:20270328T010000
END:DAYLIGHT
BEGIN:STANDARD
TZOFFSETFROM:+0200
TZOFFSETTO:+0100
TZNAME:CET
DTSTART:20271031T010000
END:STANDARD
END:VTIMEZONE
BEGIN:VEVENT
DTSTART;VALUE=DATE:20260524
DTEND;VALUE=DATE:20260525
DTSTAMP:20260421T113112
CREATED:20251210T105648Z
LAST-MODIFIED:20251210T105648Z
UID:1349-1779580800-1779667199@rockgoeren.de
SUMMARY:Rathausplatz\, Brühl
DESCRIPTION:
URL:https://rockgoeren.de/event/rathausplatz-bruehl/
END:VEVENT
BEGIN:VEVENT
DTSTART;VALUE=DATE:20260725
DTEND;VALUE=DATE:20260726
DTSTAMP:20260421T113112
CREATED:20251209T151726Z
LAST-MODIFIED:20251209T152327Z
UID:1333-1784937600-1785023999@rockgoeren.de
SUMMARY:Postillon\, Bergisch Gladbach
DESCRIPTION:
URL:https://rockgoeren.de/event/postillon-bergisch-gladbach/
END:VEVENT
BEGIN:VEVENT
DTSTART;VALUE=DATE:20260912
DTEND;VALUE=DATE:20260913
DTSTAMP:20260421T113112
CREATED:20251209T151819Z
LAST-MODIFIED:20251209T152316Z
UID:1335-1789171200-1789257599@rockgoeren.de
SUMMARY:Kuhl Abrocken\, Brühl
DESCRIPTION:
URL:https://rockgoeren.de/event/kuhl-abrocken-bruehl/
END:VEVENT
BEGIN:VEVENT
DTSTART;VALUE=DATE:20260918
DTEND;VALUE=DATE:20260919
DTSTAMP:20260421T113112
CREATED:20251209T151909Z
LAST-MODIFIED:20251209T152309Z
UID:1337-1789689600-1789775999@rockgoeren.de
SUMMARY:Kabelmetal\, Windeck
DESCRIPTION:
URL:https://rockgoeren.de/event/kabelmetal-windeck/
END:VEVENT
BEGIN:VEVENT
DTSTART;VALUE=DATE:20261010
DTEND;VALUE=DATE:20261011
DTSTAMP:20260421T113112
CREATED:20251209T151939Z
LAST-MODIFIED:20251209T152302Z
UID:1339-1791590400-1791676799@rockgoeren.de
SUMMARY:Flora 6\, Köln
DESCRIPTION:
URL:https://rockgoeren.de/event/flora-6-koeln/
END:VEVENT
END:VCALENDAR